BEGIN:VCALENDAR
VERSION:2.0
PRODID:-//Radley History Club - ECPv6.15.20//NONSGML v1.0//EN
CALSCALE:GREGORIAN
METHOD:PUBLISH
X-WR-CALNAME:Radley History Club
X-ORIGINAL-URL:https://www.radleyhistoryclub.org.uk
X-WR-CALDESC:Events for Radley History Club
REFRESH-INTERVAL;VALUE=DURATION:PT1H
X-Robots-Tag:noindex
X-PUBLISHED-TTL:PT1H
BEGIN:VTIMEZONE
TZID:Europe/London
BEGIN:DAYLIGHT
TZOFFSETFROM:+0000
TZOFFSETTO:+0100
TZNAME:BST
DTSTART:20240331T010000
END:DAYLIGHT
BEGIN:STANDARD
TZOFFSETFROM:+0100
TZOFFSETTO:+0000
TZNAME:GMT
DTSTART:20241027T010000
END:STANDARD
BEGIN:DAYLIGHT
TZOFFSETFROM:+0000
TZOFFSETTO:+0100
TZNAME:BST
DTSTART:20250330T010000
END:DAYLIGHT
BEGIN:STANDARD
TZOFFSETFROM:+0100
TZOFFSETTO:+0000
TZNAME:GMT
DTSTART:20251026T010000
END:STANDARD
BEGIN:DAYLIGHT
TZOFFSETFROM:+0000
TZOFFSETTO:+0100
TZNAME:BST
DTSTART:20260329T010000
END:DAYLIGHT
BEGIN:STANDARD
TZOFFSETFROM:+0100
TZOFFSETTO:+0000
TZNAME:GMT
DTSTART:20261025T010000
END:STANDARD
END:VTIMEZONE
BEGIN:VEVENT
DTSTART;TZID=Europe/London:20250210T193000
DTEND;TZID=Europe/London:20250210T204500
DTSTAMP:20260421T100423
CREATED:20240819T160103Z
LAST-MODIFIED:20240829T150609Z
UID:3266-1739215800-1739220300@www.radleyhistoryclub.org.uk
SUMMARY:A walk along the Thames Path from Oxford to Pangbourne
DESCRIPTION:Speaker: Bill King \nBill presents some of the historical and other highlights he and his wife encountered on their walk a few years ago along this section of the Thames Path. Bill’s particular interest is military history and research.  He has acted as the historical adviser for\, and appeared in\, several TV programmes. \nVisitors are very welcome to attend our meetings (suggested donation £3). If you’d like to join Radley History Club\, you can download a membership form here. \nDoors open at 7 pm.
URL:https://www.radleyhistoryclub.org.uk/event/a-walk-along-the-thames-path-from-oxford-to-pangbourne/
LOCATION:Radley Church\, Church Road\, Radley\, Abingdon\, Oxfordshire\, OX14 2JN
CATEGORIES:Speaker meeting
END:VEVENT
END:VCALENDAR