BEGIN:VCALENDAR
VERSION:2.0
PRODID:-//Radley History Club - ECPv6.15.20//NONSGML v1.0//EN
CALSCALE:GREGORIAN
METHOD:PUBLISH
X-WR-CALNAME:Radley History Club
X-ORIGINAL-URL:https://www.radleyhistoryclub.org.uk
X-WR-CALDESC:Events for Radley History Club
REFRESH-INTERVAL;VALUE=DURATION:PT1H
X-Robots-Tag:noindex
X-PUBLISHED-TTL:PT1H
BEGIN:VTIMEZONE
TZID:Europe/London
BEGIN:DAYLIGHT
TZOFFSETFROM:+0000
TZOFFSETTO:+0100
TZNAME:BST
DTSTART:20220327T010000
END:DAYLIGHT
BEGIN:STANDARD
TZOFFSETFROM:+0100
TZOFFSETTO:+0000
TZNAME:GMT
DTSTART:20221030T010000
END:STANDARD
BEGIN:DAYLIGHT
TZOFFSETFROM:+0000
TZOFFSETTO:+0100
TZNAME:BST
DTSTART:20230326T010000
END:DAYLIGHT
BEGIN:STANDARD
TZOFFSETFROM:+0100
TZOFFSETTO:+0000
TZNAME:GMT
DTSTART:20231029T010000
END:STANDARD
BEGIN:DAYLIGHT
TZOFFSETFROM:+0000
TZOFFSETTO:+0100
TZNAME:BST
DTSTART:20240331T010000
END:DAYLIGHT
BEGIN:STANDARD
TZOFFSETFROM:+0100
TZOFFSETTO:+0000
TZNAME:GMT
DTSTART:20241027T010000
END:STANDARD
END:VTIMEZONE
BEGIN:VEVENT
DTSTART;TZID=Europe/London:20230109T193000
DTEND;TZID=Europe/London:20230109T210000
DTSTAMP:20260420T144819
CREATED:20220810T154011Z
LAST-MODIFIED:20220810T154047Z
UID:2797-1673292600-1673298000@www.radleyhistoryclub.org.uk
SUMMARY:The History of the Railway from Didcot to Oxford
DESCRIPTION:Speaker: Laurence Waters\nLaurence draws on his extensive knowledge of local railway lines to tell us the history of the railway from Didcot to Oxford. Laurence has written several books about the Great Western Railway\, the latest being Railways of Oxford: A Transport Hub that Links Britain. He is the Photo Archivist of the Great Western Trust at Didcot Railway Centre. \nNon-members welcome – a donation of £2.50 towards the meeting costs would be appreciated. \nDoors open at 7 pm
URL:https://www.radleyhistoryclub.org.uk/event/the-history-of-the-railway-from-didcot-to-oxford/
LOCATION:Radley Church\, Church Road\, Radley\, Abingdon\, Oxfordshire\, OX14 2JN
CATEGORIES:Speaker meeting
END:VEVENT
END:VCALENDAR