BEGIN:VCALENDAR
VERSION:2.0
PRODID:-//Radley History Club - ECPv6.15.20//NONSGML v1.0//EN
CALSCALE:GREGORIAN
METHOD:PUBLISH
X-ORIGINAL-URL:https://www.radleyhistoryclub.org.uk
X-WR-CALDESC:Events for Radley History Club
REFRESH-INTERVAL;VALUE=DURATION:PT1H
X-Robots-Tag:noindex
X-PUBLISHED-TTL:PT1H
BEGIN:VTIMEZONE
TZID:Europe/London
BEGIN:DAYLIGHT
TZOFFSETFROM:+0000
TZOFFSETTO:+0100
TZNAME:BST
DTSTART:20210328T010000
END:DAYLIGHT
BEGIN:STANDARD
TZOFFSETFROM:+0100
TZOFFSETTO:+0000
TZNAME:GMT
DTSTART:20211031T010000
END:STANDARD
BEGIN:DAYLIGHT
TZOFFSETFROM:+0000
TZOFFSETTO:+0100
TZNAME:BST
DTSTART:20220327T010000
END:DAYLIGHT
BEGIN:STANDARD
TZOFFSETFROM:+0100
TZOFFSETTO:+0000
TZNAME:GMT
DTSTART:20221030T010000
END:STANDARD
BEGIN:DAYLIGHT
TZOFFSETFROM:+0000
TZOFFSETTO:+0100
TZNAME:BST
DTSTART:20230326T010000
END:DAYLIGHT
BEGIN:STANDARD
TZOFFSETFROM:+0100
TZOFFSETTO:+0000
TZNAME:GMT
DTSTART:20231029T010000
END:STANDARD
END:VTIMEZONE
BEGIN:VEVENT
DTSTART;TZID=Europe/London:20220110T193000
DTEND;TZID=Europe/London:20220110T210000
DTSTAMP:20260421T015813
CREATED:20210724T154010Z
LAST-MODIFIED:20210724T154010Z
UID:1858-1641843000-1641848400@www.radleyhistoryclub.org.uk
SUMMARY:Romans of Oxfordshire: Roman settlement and impact in the local area
DESCRIPTION:Speaker: Marie-Louise Kerr\nThe talk covers the Roman invasion of Britain\, life before and after the Romans arrived\, and examples of Roman remains\, archaeological finds\, and sites of Roman occupation in Oxfordshire. Marie-Louise is an experienced museum curator caring for a wide variety of collections\, and describes herself as ‘a curator without a museum’. \nNon-members welcome – a donation of £2.50 towards the meeting costs would be appreciated
URL:https://www.radleyhistoryclub.org.uk/event/romans-of-oxfordshire-roman-settlement-and-impact-in-the-local-area/
LOCATION:Radley Church\, Church Road\, Radley\, Abingdon\, Oxfordshire\, OX14 2JN
CATEGORIES:Speaker meeting
END:VEVENT
END:VCALENDAR