BEGIN:VCALENDAR
VERSION:2.0
PRODID:-//Radley History Club - ECPv6.15.20//NONSGML v1.0//EN
CALSCALE:GREGORIAN
METHOD:PUBLISH
X-WR-CALNAME:Radley History Club
X-ORIGINAL-URL:https://www.radleyhistoryclub.org.uk
X-WR-CALDESC:Events for Radley History Club
REFRESH-INTERVAL;VALUE=DURATION:PT1H
X-Robots-Tag:noindex
X-PUBLISHED-TTL:PT1H
BEGIN:VTIMEZONE
TZID:Europe/London
BEGIN:DAYLIGHT
TZOFFSETFROM:+0000
TZOFFSETTO:+0100
TZNAME:BST
DTSTART:20200329T010000
END:DAYLIGHT
BEGIN:STANDARD
TZOFFSETFROM:+0100
TZOFFSETTO:+0000
TZNAME:GMT
DTSTART:20201025T010000
END:STANDARD
BEGIN:DAYLIGHT
TZOFFSETFROM:+0000
TZOFFSETTO:+0100
TZNAME:BST
DTSTART:20210328T010000
END:DAYLIGHT
BEGIN:STANDARD
TZOFFSETFROM:+0100
TZOFFSETTO:+0000
TZNAME:GMT
DTSTART:20211031T010000
END:STANDARD
BEGIN:DAYLIGHT
TZOFFSETFROM:+0000
TZOFFSETTO:+0100
TZNAME:BST
DTSTART:20220327T010000
END:DAYLIGHT
BEGIN:STANDARD
TZOFFSETFROM:+0100
TZOFFSETTO:+0000
TZNAME:GMT
DTSTART:20221030T010000
END:STANDARD
END:VTIMEZONE
BEGIN:VEVENT
DTSTART;TZID=Europe/London:20210724T193000
DTEND;TZID=Europe/London:20210724T210000
DTSTAMP:20260421T125757
CREATED:20210724T155340Z
LAST-MODIFIED:20210724T155340Z
UID:1864-1627155000-1627160400@www.radleyhistoryclub.org.uk
SUMMARY:‘Professors of Rowing’: the early Oxford-Cambridge Boat Races
DESCRIPTION:Speaker: Mark Davies\nThe talk details the early history of this famous and competitive event\, highlighting the unusual alliance of Town & Gown in the crucial role played by the Thames’ watermen and boatbuilders in equipping and training the early Oxford crews. Mark is a local author and guide specialising in the history of non-university Oxford\, with a particular focus on the city’s waterways. \nNon-members welcome – a donation of £2.50 towards the meeting costs would be appreciated
URL:https://www.radleyhistoryclub.org.uk/event/professors-of-rowing-the-early-oxford-cambridge-boat-races/
LOCATION:Radley Church\, Church Road\, Radley\, Abingdon\, Oxfordshire\, OX14 2JN
CATEGORIES:Speaker meeting
END:VEVENT
BEGIN:VEVENT
DTSTART;TZID=Europe/London:20210726T150000
DTEND;TZID=Europe/London:20210726T160000
DTSTAMP:20260421T125757
CREATED:20210615T130909Z
LAST-MODIFIED:20210724T145046Z
UID:1757-1627311600-1627315200@www.radleyhistoryclub.org.uk
SUMMARY:Club visit to Botley War Graves Cemetery: 1st group
DESCRIPTION:Covid restrictions permitting\, Dick Richards will lead a tour for Club members of the Commonwealth War Graves Commission site at North Hinksey which contains some 740 burials from both wars. \nThe tour will last about an hour and is for Club members only. \nPlease meet at 2.50 pm at the Chapel.
URL:https://www.radleyhistoryclub.org.uk/event/club-visit-to-botley-war-graves-cemetery-1st-group/
LOCATION:Botley War Graves Cemetery\, North Hinksey Lane\, Oxford\, OX2 0LX
CATEGORIES:Visit
END:VEVENT
BEGIN:VEVENT
DTSTART;TZID=Europe/London:20210726T180000
DTEND;TZID=Europe/London:20210726T190000
DTSTAMP:20260421T125757
CREATED:20210331T140121Z
LAST-MODIFIED:20210724T145006Z
UID:1709-1627322400-1627326000@www.radleyhistoryclub.org.uk
SUMMARY:Club visit to Botley War Graves Cemetery: 2nd group
DESCRIPTION:Covid restrictions permitting\, Dick Richards will lead a tour for Club members of the Commonwealth War Graves Commission site at North Hinksey which contains some 740 burials from both wars. \nThe tour will last about an hour and is for Club members only. \nPlease meet at 5.50 pm at the Chapel.\n \n 
URL:https://www.radleyhistoryclub.org.uk/event/club-visit-to-botley-war-graves-cemetery/
LOCATION:Botley War Graves Cemetery\, North Hinksey Lane\, Oxford\, OX2 0LX
CATEGORIES:Visit
END:VEVENT
END:VCALENDAR