BEGIN:VCALENDAR
VERSION:2.0
PRODID:-//Radley History Club - ECPv6.15.20//NONSGML v1.0//EN
CALSCALE:GREGORIAN
METHOD:PUBLISH
X-ORIGINAL-URL:https://www.radleyhistoryclub.org.uk
X-WR-CALDESC:Events for Radley History Club
REFRESH-INTERVAL;VALUE=DURATION:PT1H
X-Robots-Tag:noindex
X-PUBLISHED-TTL:PT1H
BEGIN:VTIMEZONE
TZID:Europe/London
BEGIN:DAYLIGHT
TZOFFSETFROM:+0000
TZOFFSETTO:+0100
TZNAME:BST
DTSTART:20200329T010000
END:DAYLIGHT
BEGIN:STANDARD
TZOFFSETFROM:+0100
TZOFFSETTO:+0000
TZNAME:GMT
DTSTART:20201025T010000
END:STANDARD
BEGIN:DAYLIGHT
TZOFFSETFROM:+0000
TZOFFSETTO:+0100
TZNAME:BST
DTSTART:20210328T010000
END:DAYLIGHT
BEGIN:STANDARD
TZOFFSETFROM:+0100
TZOFFSETTO:+0000
TZNAME:GMT
DTSTART:20211031T010000
END:STANDARD
BEGIN:DAYLIGHT
TZOFFSETFROM:+0000
TZOFFSETTO:+0100
TZNAME:BST
DTSTART:20220327T010000
END:DAYLIGHT
BEGIN:STANDARD
TZOFFSETFROM:+0100
TZOFFSETTO:+0000
TZNAME:GMT
DTSTART:20221030T010000
END:STANDARD
END:VTIMEZONE
BEGIN:VEVENT
DTSTART;TZID=Europe/London:20210614T193000
DTEND;TZID=Europe/London:20210614T210000
DTSTAMP:20260421T145934
CREATED:20200818T132649Z
LAST-MODIFIED:20210724T150802Z
UID:1022-1623699000-1623704400@www.radleyhistoryclub.org.uk
SUMMARY:ZOOM talk: Spitfires over Oxfordshire
DESCRIPTION:Speaker: Nic Vanderpeet\nThe Spitfire\, the famous British fighter aircraft of the Battle of Britain\, later played an important role in the invasion of Normandy in June 1944. Nic is a learning and outreach officer for the Soldiers of Oxfordshire Museum in Woodstock. \nTalk postponed from June 2020 \nMeeting report \n  \n 
URL:https://www.radleyhistoryclub.org.uk/event/spitfires-over-oxfordshire/
LOCATION:Oxfordshire
CATEGORIES:Speaker meeting,Zoom meeting
END:VEVENT
BEGIN:VEVENT
DTSTART;TZID=Europe/London:20210615T193000
DTEND;TZID=Europe/London:20210615T210000
DTSTAMP:20260421T145934
CREATED:20200818T132734Z
LAST-MODIFIED:20210724T145501Z
UID:1024-1623785400-1623790800@www.radleyhistoryclub.org.uk
SUMMARY:CANCELLED: The Great Stink! Engineers\, sewerage systems and the Victorian battle against dirt
DESCRIPTION:Speaker: Tom Crook \nTom is a lecturer on modern British history at Oxford Brookes University. His talk discusses the notorious ‘Great Stink’ of summer 1858 in London\, its causes and the approach adopted to combat the problem of vast amounts of untreated human waste and industrial effluent entering the Thames. \n 
URL:https://www.radleyhistoryclub.org.uk/event/the-great-stink-engineers-sewerage-systems-and-the-victorian-battle-against-dirt-2/
LOCATION:Oxfordshire
CATEGORIES:Speaker meeting
END:VEVENT
END:VCALENDAR