BEGIN:VCALENDAR
VERSION:2.0
PRODID:-//Radley History Club - ECPv6.15.20//NONSGML v1.0//EN
CALSCALE:GREGORIAN
METHOD:PUBLISH
X-ORIGINAL-URL:https://www.radleyhistoryclub.org.uk
X-WR-CALDESC:Events for Radley History Club
REFRESH-INTERVAL;VALUE=DURATION:PT1H
X-Robots-Tag:noindex
X-PUBLISHED-TTL:PT1H
BEGIN:VTIMEZONE
TZID:Europe/London
BEGIN:DAYLIGHT
TZOFFSETFROM:+0000
TZOFFSETTO:+0100
TZNAME:BST
DTSTART:20200329T010000
END:DAYLIGHT
BEGIN:STANDARD
TZOFFSETFROM:+0100
TZOFFSETTO:+0000
TZNAME:GMT
DTSTART:20201025T010000
END:STANDARD
BEGIN:DAYLIGHT
TZOFFSETFROM:+0000
TZOFFSETTO:+0100
TZNAME:BST
DTSTART:20210328T010000
END:DAYLIGHT
BEGIN:STANDARD
TZOFFSETFROM:+0100
TZOFFSETTO:+0000
TZNAME:GMT
DTSTART:20211031T010000
END:STANDARD
BEGIN:DAYLIGHT
TZOFFSETFROM:+0000
TZOFFSETTO:+0100
TZNAME:BST
DTSTART:20220327T010000
END:DAYLIGHT
BEGIN:STANDARD
TZOFFSETFROM:+0100
TZOFFSETTO:+0000
TZNAME:GMT
DTSTART:20221030T010000
END:STANDARD
END:VTIMEZONE
BEGIN:VEVENT
DTSTART;TZID=Europe/London:20210510T193000
DTEND;TZID=Europe/London:20210510T210000
DTSTAMP:20260421T165540
CREATED:20200818T132557Z
LAST-MODIFIED:20210724T150859Z
UID:1020-1620675000-1620680400@www.radleyhistoryclub.org.uk
SUMMARY:ZOOM talk: The Oxford of Inspector Morse
DESCRIPTION:Speaker: Alastair Lack\nThe Inspector Morse novels\, by Colin Dexter and the popular television series based on them are set in Oxford. Alastair read history at University College Oxford.  He then had a career at the BBC\, mainly working for the World Service. He is a Green Badge Guide and member of the Oxford Guild of Tour Guides. \nTalk postponed from May 2020 \n Meeting report
URL:https://www.radleyhistoryclub.org.uk/event/the-oxford-of-inspector-morse-2/
LOCATION:Oxfordshire
CATEGORIES:Speaker meeting,Zoom meeting
END:VEVENT
END:VCALENDAR