BEGIN:VCALENDAR
VERSION:2.0
PRODID:-//Radley History Club - ECPv6.15.20//NONSGML v1.0//EN
CALSCALE:GREGORIAN
METHOD:PUBLISH
X-ORIGINAL-URL:https://www.radleyhistoryclub.org.uk
X-WR-CALDESC:Events for Radley History Club
REFRESH-INTERVAL;VALUE=DURATION:PT1H
X-Robots-Tag:noindex
X-PUBLISHED-TTL:PT1H
BEGIN:VTIMEZONE
TZID:Europe/London
BEGIN:DAYLIGHT
TZOFFSETFROM:+0000
TZOFFSETTO:+0100
TZNAME:BST
DTSTART:20200329T010000
END:DAYLIGHT
BEGIN:STANDARD
TZOFFSETFROM:+0100
TZOFFSETTO:+0000
TZNAME:GMT
DTSTART:20201025T010000
END:STANDARD
BEGIN:DAYLIGHT
TZOFFSETFROM:+0000
TZOFFSETTO:+0100
TZNAME:BST
DTSTART:20210328T010000
END:DAYLIGHT
BEGIN:STANDARD
TZOFFSETFROM:+0100
TZOFFSETTO:+0000
TZNAME:GMT
DTSTART:20211031T010000
END:STANDARD
BEGIN:DAYLIGHT
TZOFFSETFROM:+0000
TZOFFSETTO:+0100
TZNAME:BST
DTSTART:20220327T010000
END:DAYLIGHT
BEGIN:STANDARD
TZOFFSETFROM:+0100
TZOFFSETTO:+0000
TZNAME:GMT
DTSTART:20221030T010000
END:STANDARD
END:VTIMEZONE
BEGIN:VEVENT
DTSTART;TZID=Europe/London:20210208T193000
DTEND;TZID=Europe/London:20210208T210000
DTSTAMP:20260422T161654
CREATED:20200818T132308Z
LAST-MODIFIED:20210724T151112Z
UID:1014-1612812600-1612818000@www.radleyhistoryclub.org.uk
SUMMARY:ZOOM TALK: Kingerlee: the family and the building firm
DESCRIPTION:Speaker: Liz Woolley\nLiz describes the history of this fifth generation Oxfordshire family business which celebrated its 150th anniversary in 2018. Liz is a local historian specialising in aspects of the history of Oxford and Oxfordshire with a particular interest in the city’s ‘town’ as opposed to ‘gown’. She is a regular visitor to the Club\, having given us a talk each year for the past 11 years. \nMeeting report
URL:https://www.radleyhistoryclub.org.uk/event/kingerlee-the-family-and-the-building-firm/
LOCATION:Oxfordshire
CATEGORIES:Speaker meeting,Zoom meeting
END:VEVENT
END:VCALENDAR