BEGIN:VCALENDAR
VERSION:2.0
PRODID:-//Radley History Club - ECPv6.15.20//NONSGML v1.0//EN
CALSCALE:GREGORIAN
METHOD:PUBLISH
X-WR-CALNAME:Radley History Club
X-ORIGINAL-URL:https://www.radleyhistoryclub.org.uk
X-WR-CALDESC:Events for Radley History Club
REFRESH-INTERVAL;VALUE=DURATION:PT1H
X-Robots-Tag:noindex
X-PUBLISHED-TTL:PT1H
BEGIN:VTIMEZONE
TZID:Europe/London
BEGIN:DAYLIGHT
TZOFFSETFROM:+0000
TZOFFSETTO:+0100
TZNAME:BST
DTSTART:20190331T010000
END:DAYLIGHT
BEGIN:STANDARD
TZOFFSETFROM:+0100
TZOFFSETTO:+0000
TZNAME:GMT
DTSTART:20191027T010000
END:STANDARD
BEGIN:DAYLIGHT
TZOFFSETFROM:+0000
TZOFFSETTO:+0100
TZNAME:BST
DTSTART:20200329T010000
END:DAYLIGHT
BEGIN:STANDARD
TZOFFSETFROM:+0100
TZOFFSETTO:+0000
TZNAME:GMT
DTSTART:20201025T010000
END:STANDARD
BEGIN:DAYLIGHT
TZOFFSETFROM:+0000
TZOFFSETTO:+0100
TZNAME:BST
DTSTART:20210328T010000
END:DAYLIGHT
BEGIN:STANDARD
TZOFFSETFROM:+0100
TZOFFSETTO:+0000
TZNAME:GMT
DTSTART:20211031T010000
END:STANDARD
END:VTIMEZONE
BEGIN:VEVENT
DTSTART;TZID=Europe/London:20201214T193000
DTEND;TZID=Europe/London:20201214T210000
DTSTAMP:20260422T233418
CREATED:20200818T132118Z
LAST-MODIFIED:20210724T151220Z
UID:1010-1607974200-1607979600@www.radleyhistoryclub.org.uk
SUMMARY:ZOOM TALK: Einstein and the refugee scholars of Oxford
DESCRIPTION:Speaker: Victoria Bentata\nVictoria tells us about Albert Einstein and other academics who sought refuge in Oxford from Nazi tyranny. Victoria is an Oxford Green Badge Tour guide and member of the Oxford Guild of Tour Guides. She last spoke to us on Oxford and Medicine. \nMeeting report
URL:https://www.radleyhistoryclub.org.uk/event/einstein-and-the-refugee-scholars-of-oxford/
LOCATION:Oxfordshire
CATEGORIES:Speaker meeting,Zoom meeting
END:VEVENT
END:VCALENDAR