BEGIN:VCALENDAR
VERSION:2.0
PRODID:-//Radley History Club - ECPv6.15.20//NONSGML v1.0//EN
CALSCALE:GREGORIAN
METHOD:PUBLISH
X-ORIGINAL-URL:https://www.radleyhistoryclub.org.uk
X-WR-CALDESC:Events for Radley History Club
REFRESH-INTERVAL;VALUE=DURATION:PT1H
X-Robots-Tag:noindex
X-PUBLISHED-TTL:PT1H
BEGIN:VTIMEZONE
TZID:Europe/London
BEGIN:DAYLIGHT
TZOFFSETFROM:+0000
TZOFFSETTO:+0100
TZNAME:BST
DTSTART:20190331T010000
END:DAYLIGHT
BEGIN:STANDARD
TZOFFSETFROM:+0100
TZOFFSETTO:+0000
TZNAME:GMT
DTSTART:20191027T010000
END:STANDARD
BEGIN:DAYLIGHT
TZOFFSETFROM:+0000
TZOFFSETTO:+0100
TZNAME:BST
DTSTART:20200329T010000
END:DAYLIGHT
BEGIN:STANDARD
TZOFFSETFROM:+0100
TZOFFSETTO:+0000
TZNAME:GMT
DTSTART:20201025T010000
END:STANDARD
BEGIN:DAYLIGHT
TZOFFSETFROM:+0000
TZOFFSETTO:+0100
TZNAME:BST
DTSTART:20210328T010000
END:DAYLIGHT
BEGIN:STANDARD
TZOFFSETFROM:+0100
TZOFFSETTO:+0000
TZNAME:GMT
DTSTART:20211031T010000
END:STANDARD
END:VTIMEZONE
BEGIN:VEVENT
DTSTART;TZID=Europe/London:20201012T193000
DTEND;TZID=Europe/London:20201012T210000
DTSTAMP:20260423T030651
CREATED:20200818T131941Z
LAST-MODIFIED:20210724T151335Z
UID:1006-1602531000-1602536400@www.radleyhistoryclub.org.uk
SUMMARY:ZOOM TALK: The Pre-Raphaelites in Oxfordshire – Artists in Wonderland
DESCRIPTION:Speaker: Mark Davies\nMark’s talk on the links of members of the Pre-Raphaelite group of Victorian artists with Oxford is illustrated with examples of their work. Mark has spoken to us before and is an Oxford local historian\, author\, and guide specialising in the history of non-University Oxford\, with a particular focus on the city’s waterways. \nMeeting report
URL:https://www.radleyhistoryclub.org.uk/event/the-pre-raphaelites-in-oxfordshire-artists-in-wonderland/
LOCATION:Oxfordshire
CATEGORIES:Speaker meeting,Zoom meeting
END:VEVENT
END:VCALENDAR