BEGIN:VCALENDAR
VERSION:2.0
PRODID:-//Radley History Club - ECPv6.15.20//NONSGML v1.0//EN
CALSCALE:GREGORIAN
METHOD:PUBLISH
X-WR-CALNAME:Radley History Club
X-ORIGINAL-URL:https://www.radleyhistoryclub.org.uk
X-WR-CALDESC:Events for Radley History Club
REFRESH-INTERVAL;VALUE=DURATION:PT1H
X-Robots-Tag:noindex
X-PUBLISHED-TTL:PT1H
BEGIN:VTIMEZONE
TZID:Europe/London
BEGIN:DAYLIGHT
TZOFFSETFROM:+0000
TZOFFSETTO:+0100
TZNAME:BST
DTSTART:20190331T010000
END:DAYLIGHT
BEGIN:STANDARD
TZOFFSETFROM:+0100
TZOFFSETTO:+0000
TZNAME:GMT
DTSTART:20191027T010000
END:STANDARD
BEGIN:DAYLIGHT
TZOFFSETFROM:+0000
TZOFFSETTO:+0100
TZNAME:BST
DTSTART:20200329T010000
END:DAYLIGHT
BEGIN:STANDARD
TZOFFSETFROM:+0100
TZOFFSETTO:+0000
TZNAME:GMT
DTSTART:20201025T010000
END:STANDARD
BEGIN:DAYLIGHT
TZOFFSETFROM:+0000
TZOFFSETTO:+0100
TZNAME:BST
DTSTART:20210328T010000
END:DAYLIGHT
BEGIN:STANDARD
TZOFFSETFROM:+0100
TZOFFSETTO:+0000
TZNAME:GMT
DTSTART:20211031T010000
END:STANDARD
END:VTIMEZONE
BEGIN:VEVENT
DTSTART;TZID=Europe/London:20200309T193000
DTEND;TZID=Europe/London:20200309T210000
DTSTAMP:20260423T163922
CREATED:20191025T142814Z
LAST-MODIFIED:20210724T151525Z
UID:36-1583782200-1583787600@www.radleyhistoryclub.org.uk
SUMMARY:Historic Towns Atlas of Oxford
DESCRIPTION:Speaker: Nick Millea\nSix volumes of the British Historic Towns Atlas series telling the fascinating history of Britain’s historic towns have already been published by the Historic Towns Trust. Volume VII\, the Oxford atlas\, is due to be published in autumn 2020. Nick is Map Librarian at the Bodleian Library and a trustee of the Historic Towns Trust. \nMeeting report
URL:https://www.radleyhistoryclub.org.uk/event/historic-towns-atlas-of-oxford/
LOCATION:Radley Church\, Church Road\, Radley\, Abingdon\, Oxfordshire\, OX14 2JN
CATEGORIES:Speaker meeting
END:VEVENT
END:VCALENDAR