BEGIN:VCALENDAR
VERSION:2.0
PRODID:-//Radley History Club - ECPv6.15.20//NONSGML v1.0//EN
CALSCALE:GREGORIAN
METHOD:PUBLISH
X-WR-CALNAME:Radley History Club
X-ORIGINAL-URL:https://www.radleyhistoryclub.org.uk
X-WR-CALDESC:Events for Radley History Club
REFRESH-INTERVAL;VALUE=DURATION:PT1H
X-Robots-Tag:noindex
X-PUBLISHED-TTL:PT1H
BEGIN:VTIMEZONE
TZID:Europe/London
BEGIN:DAYLIGHT
TZOFFSETFROM:+0000
TZOFFSETTO:+0100
TZNAME:BST
DTSTART:20190331T010000
END:DAYLIGHT
BEGIN:STANDARD
TZOFFSETFROM:+0100
TZOFFSETTO:+0000
TZNAME:GMT
DTSTART:20191027T010000
END:STANDARD
BEGIN:DAYLIGHT
TZOFFSETFROM:+0000
TZOFFSETTO:+0100
TZNAME:BST
DTSTART:20200329T010000
END:DAYLIGHT
BEGIN:STANDARD
TZOFFSETFROM:+0100
TZOFFSETTO:+0000
TZNAME:GMT
DTSTART:20201025T010000
END:STANDARD
BEGIN:DAYLIGHT
TZOFFSETFROM:+0000
TZOFFSETTO:+0100
TZNAME:BST
DTSTART:20210328T010000
END:DAYLIGHT
BEGIN:STANDARD
TZOFFSETFROM:+0100
TZOFFSETTO:+0000
TZNAME:GMT
DTSTART:20211031T010000
END:STANDARD
END:VTIMEZONE
BEGIN:VEVENT
DTSTART;TZID=Europe/London:20200210T193000
DTEND;TZID=Europe/London:20200210T210000
DTSTAMP:20260423T180425
CREATED:20191025T143154Z
LAST-MODIFIED:20210724T151635Z
UID:40-1581363000-1581368400@www.radleyhistoryclub.org.uk
SUMMARY:The Road to Peace is Paved with Headstones: the History and Legacy of the Commonwealth War Graves Commission
DESCRIPTION:Speaker: Dick Richards\nDick is a ‘Champion’ and volunteer with the Commonwealth War Graves Commission\, which honours all those from the Commonwealth forces who died in the First and Second World Wars. His talk describes the Commission’s beginnings\, the design of its cemeteries and memorials\, and its presence in Oxfordshire and the surrounding area. \nMeeting report \n 
URL:https://www.radleyhistoryclub.org.uk/event/the-road-to-peace-is-paved-with-headstones-the-history-and-legacy-of-the-commonwealth-war-graves-commission/
LOCATION:Radley Church\, Church Road\, Radley\, Abingdon\, Oxfordshire\, OX14 2JN
CATEGORIES:Speaker meeting
END:VEVENT
END:VCALENDAR