BEGIN:VCALENDAR
VERSION:2.0
PRODID:-//Radley History Club - ECPv6.15.20//NONSGML v1.0//EN
CALSCALE:GREGORIAN
METHOD:PUBLISH
X-WR-CALNAME:Radley History Club
X-ORIGINAL-URL:https://www.radleyhistoryclub.org.uk
X-WR-CALDESC:Events for Radley History Club
REFRESH-INTERVAL;VALUE=DURATION:PT1H
X-Robots-Tag:noindex
X-PUBLISHED-TTL:PT1H
BEGIN:VTIMEZONE
TZID:Europe/London
BEGIN:DAYLIGHT
TZOFFSETFROM:+0000
TZOFFSETTO:+0100
TZNAME:BST
DTSTART:20180325T010000
END:DAYLIGHT
BEGIN:STANDARD
TZOFFSETFROM:+0100
TZOFFSETTO:+0000
TZNAME:GMT
DTSTART:20181028T010000
END:STANDARD
BEGIN:DAYLIGHT
TZOFFSETFROM:+0000
TZOFFSETTO:+0100
TZNAME:BST
DTSTART:20190331T010000
END:DAYLIGHT
BEGIN:STANDARD
TZOFFSETFROM:+0100
TZOFFSETTO:+0000
TZNAME:GMT
DTSTART:20191027T010000
END:STANDARD
BEGIN:DAYLIGHT
TZOFFSETFROM:+0000
TZOFFSETTO:+0100
TZNAME:BST
DTSTART:20200329T010000
END:DAYLIGHT
BEGIN:STANDARD
TZOFFSETFROM:+0100
TZOFFSETTO:+0000
TZNAME:GMT
DTSTART:20201025T010000
END:STANDARD
END:VTIMEZONE
BEGIN:VEVENT
DTSTART;TZID=Europe/London:20191209T190000
DTEND;TZID=Europe/London:20191209T223000
DTSTAMP:20260423T211419
CREATED:20191025T141836Z
LAST-MODIFIED:20191025T145021Z
UID:28-1575918000-1575930600@www.radleyhistoryclub.org.uk
SUMMARY:Christmas Dinner
DESCRIPTION:Pre-booked two-course meal for members and their guests from the pub’s festive menu
URL:https://www.radleyhistoryclub.org.uk/event/christmas-dinner/
LOCATION:Bowyer Arms\, Radley\, Foxborough Road\, Radley\, Abingdon\, OX14 3AE
CATEGORIES:Social event
END:VEVENT
END:VCALENDAR